BEGIN:VCALENDAR
VERSION:2.0
PRODID:-//192.254.235.92//NONSGML kigkonsult.se iCalcreator 2.26.9//
CALSCALE:GREGORIAN
METHOD:PUBLISH
X-FROM-URL:https://adelaideproductlaunch.com.au
X-WR-TIMEZONE:Australia/Adelaide
BEGIN:VTIMEZONE
TZID:Australia/Adelaide
X-LIC-LOCATION:Australia/Adelaide
BEGIN:STANDARD
DTSTART:20200405T030000
TZOFFSETFROM:+1030
TZOFFSETTO:+0930
RDATE:20210404T030000
TZNAME:ACST
END:STANDARD
BEGIN:DAYLIGHT
DTSTART:20191006T020000
TZOFFSETFROM:+0930
TZOFFSETTO:+1030
RDATE:20201004T020000
TZNAME:ACDT
END:DAYLIGHT
END:VTIMEZONE
BEGIN:VEVENT
UID:ai1ec-361@adelaideproductlaunch.com.au
DTSTAMP:20200224T200837Z
CATEGORIES;LANGUAGE=en-US:Training
CONTACT:
DESCRIPTION:The purpose of the Adelaide Product Launch Syndicate is to allo
 w like minded individuals to meet each other and collaborate on joint vent
 ure projects where for instance two people may have complimentary products
  or services and can see each other adding value in some way.\nSome knowle
 dge and guidance will be provided to give people a sort of structure to wo
 rk within for optimum success. Since this is a complicated topic with many
  parts and we only have a couple of hours per meeting. Each meeting will f
 ocus on one main topic that is related to the Product Launch process.\nThe
  first meeting will be a chance for attendees to introduce themselves and 
 give everyone an idea of why they want to get involved\, what product/serv
 ice they offer\, what kind of customers they want and what sort of joint v
 enture partners they are looking for.\nI will then offer a basic structure
  for how future meetings will be conducted and what topics we will cover. 
 These topics will generally fall under three main themes – Product\, Place
 ment and Partnerships.\nProduct – what your product or service\, how to re
 fine it and make it more marketable.\nPlacement – what you can do on your 
 own to get more customers who are interested in your product or service.\n
 Partners – what can you do with the help of others to get more customers.
 \nI’m open to feedback but this is what I have in mind for the first meet-
 up.\nTickets: https://www.meetup.com/Adelaide-Product-Launch/events/260534
 273/.
DTSTART;TZID=Australia/Adelaide:20190516T190000
DTEND;TZID=Australia/Adelaide:20190516T210000
LOCATION:Public Speaking Training @ Basement\, 96 Gawler Place Adelaide SA 
 5000
SEQUENCE:0
SUMMARY:What Is The Product Launch Syndicate?
URL:https://adelaideproductlaunch.com.au/index.php/event/what-is-the-produc
 t-launch-syndicate/
X-COST-TYPE:external
X-ALT-DESC;FMTTYPE=text/html:<!DOCTYPE HTML PUBLIC '-//W3C//DTD HTML 3.2//E
 N'>\\n<HTML>\\n<HEAD>\\n<TITLE></TITLE>\\n</HEAD>\\n<BODY><p>The purpose o
 f the Adelaide Product Launch Syndicate is to allow like minded individual
 s to meet each other and collaborate on joint venture projects where for i
 nstance two people may have complimentary products or services and can see
  each other adding value in some way.</p>\n<p>Some knowledge and guidance 
 will be provided to give people a sort of structure to work within for opt
 imum success. Since this is a complicated topic with many parts and we onl
 y have a couple of hours per meeting. Each meeting will focus on one main 
 topic that is related to the Product Launch process.</p>\n<p>The first mee
 ting will be a chance for attendees to introduce themselves and give every
 one an idea of why they want to get involved\, what product/service they o
 ffer\, what kind of customers they want and what sort of joint venture par
 tners they are looking for.</p>\n<p>I will then offer a basic structure fo
 r how future meetings will be conducted and what topics we will cover. The
 se topics will generally fall under three main themes – Product\, Placemen
 t and Partnerships.</p>\n<p>Product – what your product or service\, how t
 o refine it and make it more marketable.</p>\n<p>Placement – what you can 
 do on your own to get more customers who are interested in your product or
  service.</p>\n<p>Partners – what can you do with the help of others to ge
 t more customers.</p>\n<p>I’m open to feedback but this is what I have in 
 mind for the first meet-up.</p>\n<p>Tickets: <a class='ai1ec-ticket-url-ex
 ported' href='https://www.meetup.com/Adelaide-Product-Launch/events/260534
 273/'>https://www.meetup.com/Adelaide-Product-Launch/events/260534273/</a>
 .</p></BODY></HTML>
X-TICKETS-URL:https://www.meetup.com/Adelaide-Product-Launch/events/2605342
 73/
END:VEVENT
BEGIN:VEVENT
UID:ai1ec-362@adelaideproductlaunch.com.au
DTSTAMP:20200224T200837Z
CATEGORIES;LANGUAGE=en-US:Training
CONTACT:
DESCRIPTION:Having a good sales page and well written copy is vital to your
  success.\nIn this meeting we will talk about the fundamental elements for
  a good sales page.\nTickets: https://www.meetup.com/Adelaide-Product-Laun
 ch/events/260534290/.
DTSTART;TZID=Australia/Adelaide:20190620T190000
DTEND;TZID=Australia/Adelaide:20190620T210000
LOCATION:Public Speaking Training @ Basement\, 96 Gawler Place Adelaide SA 
 5000
SEQUENCE:0
SUMMARY:Sales Pages And Copy Writing
URL:https://adelaideproductlaunch.com.au/index.php/event/sales-pages-and-co
 py-writing/
X-COST-TYPE:external
X-ALT-DESC;FMTTYPE=text/html:<!DOCTYPE HTML PUBLIC '-//W3C//DTD HTML 3.2//E
 N'>\\n<HTML>\\n<HEAD>\\n<TITLE></TITLE>\\n</HEAD>\\n<BODY><p>Having a good
  sales page and well written copy is vital to your success.</p>\n<p>In thi
 s meeting we will talk about the fundamental elements for a good sales pag
 e.</p>\n<p>Tickets: <a class='ai1ec-ticket-url-exported' href='https://www
 .meetup.com/Adelaide-Product-Launch/events/260534290/'>https://www.meetup.
 com/Adelaide-Product-Launch/events/260534290/</a>.</p></BODY></HTML>
X-TICKETS-URL:https://www.meetup.com/Adelaide-Product-Launch/events/2605342
 90/
END:VEVENT
BEGIN:VEVENT
UID:ai1ec-365@adelaideproductlaunch.com.au
DTSTAMP:20200224T200837Z
CATEGORIES;LANGUAGE=en-US:Training
CONTACT:
DESCRIPTION:Having a good website is more than just having pretty pictures 
 and words.\nIn this meeting we will talk about structuring your website fo
 r long term success.\nTickets: https://www.meetup.com/Adelaide-Product-Lau
 nch/events/260534329/.
DTSTART;TZID=Australia/Adelaide:20190718T190000
DTEND;TZID=Australia/Adelaide:20190718T210000
LOCATION:Pubic Speaking Training @ Basement\, 96 Gawler Place Adelaide SA 5
 000
SEQUENCE:0
SUMMARY:Website Structure And Google Analytics
URL:https://adelaideproductlaunch.com.au/index.php/event/website-structure-
 and-google-analytics/
X-COST-TYPE:external
X-ALT-DESC;FMTTYPE=text/html:<!DOCTYPE HTML PUBLIC '-//W3C//DTD HTML 3.2//E
 N'>\\n<HTML>\\n<HEAD>\\n<TITLE></TITLE>\\n</HEAD>\\n<BODY><p>Having a good
  website is more than just having pretty pictures and words.</p>\n<p>In th
 is meeting we will talk about structuring your website for long term succe
 ss.</p>\n<p>Tickets: <a class='ai1ec-ticket-url-exported' href='https://ww
 w.meetup.com/Adelaide-Product-Launch/events/260534329/'>https://www.meetup
 .com/Adelaide-Product-Launch/events/260534329/</a>.</p></BODY></HTML>
X-TICKETS-URL:https://www.meetup.com/Adelaide-Product-Launch/events/2605343
 29/
END:VEVENT
BEGIN:VEVENT
UID:ai1ec-366@adelaideproductlaunch.com.au
DTSTAMP:20200224T200837Z
CATEGORIES;LANGUAGE=en-US:Training
CONTACT:
DESCRIPTION:Google Ads are a great way to get started as it offers you qual
 ity traffic for as little as $1 per day.\nIn this meeting we will talk abo
 ut keyword research and writing adverts.\nTickets: https://www.meetup.com/
 Adelaide-Product-Launch/events/260534435/.
DTSTART;TZID=Australia/Adelaide:20190815T190000
DTEND;TZID=Australia/Adelaide:20190815T210000
LOCATION:Public Speaking Training @ Basement\, 96 Gawler Place Adelaide SA 
 5000
SEQUENCE:0
SUMMARY:Testing The Waters With Google Ads
URL:https://adelaideproductlaunch.com.au/index.php/event/testing-the-waters
 -with-google-ads/
X-COST-TYPE:external
X-ALT-DESC;FMTTYPE=text/html:<!DOCTYPE HTML PUBLIC '-//W3C//DTD HTML 3.2//E
 N'>\\n<HTML>\\n<HEAD>\\n<TITLE></TITLE>\\n</HEAD>\\n<BODY><p>Google Ads ar
 e a great way to get started as it offers you quality traffic for as littl
 e as $1 per day.</p>\n<p>In this meeting we will talk about keyword resear
 ch and writing adverts.</p>\n<p>Tickets: <a class='ai1ec-ticket-url-export
 ed' href='https://www.meetup.com/Adelaide-Product-Launch/events/260534435/
 '>https://www.meetup.com/Adelaide-Product-Launch/events/260534435/</a>.</p
 ></BODY></HTML>
X-TICKETS-URL:https://www.meetup.com/Adelaide-Product-Launch/events/2605344
 35/
END:VEVENT
BEGIN:VEVENT
UID:ai1ec-404@adelaideproductlaunch.com.au
DTSTAMP:20200224T200837Z
CATEGORIES;LANGUAGE=en-US:Training
CONTACT:
DESCRIPTION:Chat Bots are a great way to increase conversions and give user
 s a more personalised experience.\nIn this meeting we will discover the ma
 ny benefits of automation using Chat Bots as well as show you how to get s
 tarted!\nTickets: https://www.meetup.com/Adelaide-Product-Launch/events/26
 1403877/.
DTSTART;TZID=Australia/Adelaide:20190919T190000
DTEND;TZID=Australia/Adelaide:20190919T210000
LOCATION:Public Speaking Training @ Basement\, 96 Gawler Place Adelaide SA 
 5000
SEQUENCE:0
SUMMARY:Chat Bots – Hot Or Not And How To Get Started
URL:https://adelaideproductlaunch.com.au/index.php/event/chat-bots-hot-or-n
 ot-and-how-to-get-started/
X-COST-TYPE:external
X-ALT-DESC;FMTTYPE=text/html:<!DOCTYPE HTML PUBLIC '-//W3C//DTD HTML 3.2//E
 N'>\\n<HTML>\\n<HEAD>\\n<TITLE></TITLE>\\n</HEAD>\\n<BODY><p>Chat Bots are
  a great way to increase conversions and give users a more personalised ex
 perience.</p>\n<p>In this meeting we will discover the many benefits of au
 tomation using Chat Bots as well as show you how to get started!</p>\n<p>T
 ickets: <a class='ai1ec-ticket-url-exported' href='https://www.meetup.com/
 Adelaide-Product-Launch/events/261403877/'>https://www.meetup.com/Adelaide
 -Product-Launch/events/261403877/</a>.</p></BODY></HTML>
X-COST:$33
X-TICKETS-URL:https://www.meetup.com/Adelaide-Product-Launch/events/2614038
 77/
END:VEVENT
BEGIN:VEVENT
UID:ai1ec-408@adelaideproductlaunch.com.au
DTSTAMP:20200224T200837Z
CATEGORIES;LANGUAGE=en-US:Training
CONTACT:
DESCRIPTION:Most people won’t buy the first time they visit your website.\n
 Collecting emails is still the number one way to increase conversions and 
 build an audience for future sales.\nLet’s talk about how to do this prope
 rly.\nTickets: https://www.meetup.com/Adelaide-Product-Launch/events/26140
 3877/.
DTSTART;TZID=Australia/Adelaide:20191017T190000
DTEND;TZID=Australia/Adelaide:20191017T210000
LOCATION:Public Speaking Training @ Basement\, 96 Gawler Place Adelaide SA 
 5000
SEQUENCE:0
SUMMARY:Automating Emails For Long Term Success
URL:https://adelaideproductlaunch.com.au/index.php/event/automating-emails-
 for-long-term-success/
X-COST-TYPE:external
X-ALT-DESC;FMTTYPE=text/html:<!DOCTYPE HTML PUBLIC '-//W3C//DTD HTML 3.2//E
 N'>\\n<HTML>\\n<HEAD>\\n<TITLE></TITLE>\\n</HEAD>\\n<BODY><p>Most people w
 on’t buy the first time they visit your website.</p>\n<p>Collecting emails
  is still the number one way to increase conversions and build an audience
  for future sales.</p>\n<p>Let’s talk about how to do this properly.</p>\n
 <p>Tickets: <a class='ai1ec-ticket-url-exported' href='https://www.meetup.
 com/Adelaide-Product-Launch/events/261403877/'>https://www.meetup.com/Adel
 aide-Product-Launch/events/261403877/</a>.</p></BODY></HTML>
X-COST:$33
X-TICKETS-URL:https://www.meetup.com/Adelaide-Product-Launch/events/2614038
 77/
END:VEVENT
BEGIN:VEVENT
UID:ai1ec-410@adelaideproductlaunch.com.au
DTSTAMP:20200224T200837Z
CATEGORIES;LANGUAGE=en-US:Training
CONTACT:
DESCRIPTION:In this meeting we’ll talk about how to create great adverts fo
 r Google and Facebook.\nTickets: https://www.meetup.com/Adelaide-Product-L
 aunch/events/261403877/.
DTSTART;TZID=Australia/Adelaide:20191121T190000
DTEND;TZID=Australia/Adelaide:20191121T210000
LOCATION:Public Speaking Training @ Basement\, 96 Gawler Place Adelaide SA 
 5000
SEQUENCE:0
SUMMARY:Creating High Converting Adverts For Search And Social
URL:https://adelaideproductlaunch.com.au/index.php/event/creating-high-conv
 erting-adverts-for-search-and-social/
X-COST-TYPE:external
X-ALT-DESC;FMTTYPE=text/html:<!DOCTYPE HTML PUBLIC '-//W3C//DTD HTML 3.2//E
 N'>\\n<HTML>\\n<HEAD>\\n<TITLE></TITLE>\\n</HEAD>\\n<BODY><p>In this meeti
 ng we’ll talk about how to create great adverts for Google and Facebook.</
 p>\n<p>Tickets: <a class='ai1ec-ticket-url-exported' href='https://www.mee
 tup.com/Adelaide-Product-Launch/events/261403877/'>https://www.meetup.com/
 Adelaide-Product-Launch/events/261403877/</a>.</p></BODY></HTML>
X-COST:$33
X-TICKETS-URL:https://www.meetup.com/Adelaide-Product-Launch/events/2614038
 77/
END:VEVENT
BEGIN:VEVENT
UID:ai1ec-367@adelaideproductlaunch.com.au
DTSTAMP:20200224T200837Z
CATEGORIES;LANGUAGE=en-US:Training
CONTACT:
DESCRIPTION:This 2 day event is designed to help you build out your Marketi
 ng Calendar for 2020:\nReview your sales pages.\nOffer pages.\nBlog conten
 t.\nSocial media updates.\nWe’ll start with a blank calendar and then stra
 tegically fill it with promotions and content to help keep the momentum go
 ing throughout the year.\nYou will also have the opportunity to meet like 
 minded individuals to help you with your promotions and content.\nTickets:
  https://www.meetup.com/Adelaide-Product-Launch/events/260985253/.
DTSTART;TZID=Australia/Adelaide:20200111T100000
DTEND;TZID=Australia/Adelaide:20200112T160000
LOCATION:Public Speaking Training @ Basement\, 96 Gawler Place Adelaide SA 
 5000
SEQUENCE:0
SUMMARY:New Year New Idea
URL:https://adelaideproductlaunch.com.au/index.php/event/new-year-new-idea/
X-COST-TYPE:external
X-ALT-DESC;FMTTYPE=text/html:<!DOCTYPE HTML PUBLIC '-//W3C//DTD HTML 3.2//E
 N'>\\n<HTML>\\n<HEAD>\\n<TITLE></TITLE>\\n</HEAD>\\n<BODY><p>This 2 day ev
 ent is designed to help you build out your Marketing Calendar for 2020:</p
 >\n<p>Review your sales pages.<br />\nOffer pages.<br />\nBlog content.<br
  />\nSocial media updates.</p>\n<p>We’ll start with a blank calendar and t
 hen strategically fill it with promotions and content to help keep the mom
 entum going throughout the year.</p>\n<p>You will also have the opportunit
 y to meet like minded individuals to help you with your promotions and con
 tent.</p>\n<p>Tickets: <a class='ai1ec-ticket-url-exported' href='https://
 www.meetup.com/Adelaide-Product-Launch/events/260985253/'>https://www.meet
 up.com/Adelaide-Product-Launch/events/260985253/</a>.</p></BODY></HTML>
X-COST:$220
X-TICKETS-URL:https://www.meetup.com/Adelaide-Product-Launch/events/2609852
 53/
END:VEVENT
END:VCALENDAR
